BEGIN:VCALENDAR
VERSION:2.0
PRODID:-//Psi of Psi U - ECPv4.6.7//NONSGML v1.0//EN
CALSCALE:GREGORIAN
METHOD:PUBLISH
X-WR-CALNAME:Psi of Psi U
X-ORIGINAL-URL:https://www.psiofpsiu.com
X-WR-CALDESC:Events for Psi of Psi U
BEGIN:VEVENT
DTSTART;TZID=America/New_York:20200116T183000
DTEND;TZID=America/New_York:20200116T203000
DTSTAMP:20260425T232907
CREATED:20200110T150730Z
LAST-MODIFIED:20200110T150730Z
UID:46783-1579199400-1579206600@www.psiofpsiu.com
SUMMARY:2nd Annual NYC January Gathering
DESCRIPTION:Who:     Brothers ”Old & Young” \nWhat:    Brothers helping Brothers with their Careers & Life \nWhere:  Sean’s Bar & Kitchen: 42 West 48th Street\, 2nd Flr. \nWhen:   Thurs January 16th 2020 6:30p-8:30p \nRSVP:  by Jan 15th 2020  \nRegister & Donation: www.psiofpsiu.com for registration Recommended Donation: $25pp to support Psi Chapter Programs  \n
URL:https://www.psiofpsiu.com/event/2nd-annual-nyc-january-gathering/
LOCATION:42 West 48th Street\, 2nd Flr.\, NYC\, NY
END:VEVENT
END:VCALENDAR